Workbook
Name ERG_CY_IN: #REF!
Name ERG_FY_IN: #REF!
Name pagetable: #REF!
Name product_table: #REF!
Name xCh1R: OFFSET([1]Sheet1!$BD$3,0,0,COUNTA([1]Sheet1!$BD:$BD)-1)
Name xCh2G: OFFSET([1]Sheet1!$F$3,0,0,COUNTA([1]Sheet1!$F:$F)-1)
Name xCh2R: OFFSET([1]Sheet1!$AT$3,0,0,COUNTA([1]Sheet1!$AT:$AT)-1)
Name xCh3B: OFFSET([1]Sheet1!$O$3,0,0,COUNTA([1]Sheet1!$O:$O)-1)
Name xCh3D: OFFSET([1]Sheet1!$N$3,0,0,COUNTA([1]Sheet1!$N:$N)-9)
Name xCh3R: OFFSET([1]Sheet1!$AW$3,0,0,COUNTA([1]Sheet1!$AW:$AW)-1)
Name xCh4B: OFFSET([1]Sheet1!$AL$3,0,0,COUNTA([1]Sheet1!$AL:$AL)-1)
Name xCh4D: OFFSET([1]Sheet1!$Q$3,0,0,COUNTA([1]Sheet1!$Q:$Q)-1)
Name xCh4R: OFFSET([1]Sheet1!$AM$3,0,0,COUNTA([1]Sheet1!$AM:$AM)-1)
Name xCh5B: OFFSET([1]Sheet1!$Y$3,0,0,COUNTA([1]Sheet1!$Y:$Y)-1)
Name xCh5D: OFFSET([1]Sheet1!$X$3,0,0,COUNTA([1]Sheet1!$X:$X)-1)
Name xCh5R: OFFSET([1]Sheet1!$AA$3,0,0,COUNTA([1]Sheet1!$AA:$AA)-1)
Name xCh6B: OFFSET([1]Sheet1!$AK$3,0,0,COUNTA([1]Sheet1!$AK:$AK)-1)
Name xCh6D: OFFSET([1]Sheet1!$AJ$3,0,0,COUNTA([1]Sheet1!$AJ:$AJ)-1)
Name xCh7R: OFFSET([1]Sheet1!$BB$3,0,0,COUNTA([1]Sheet1!$BB:$BB)-1)
Name xCh8B: OFFSET([1]Sheet1!$AH$3,0,0,COUNTA([1]Sheet1!$AH:$AH)-1)
Name xCh8D: OFFSET([1]Sheet1!$AG$3,0,0,COUNTA([1]Sheet1!$AG:$AG)-1)
Name xDate: OFFSET([1]Sheet1!$A$3,0,0,COUNTA([1]Sheet1!$A:$A)-1)

Sheet Summary
B2: Summary Of Onshore Oil & Gas Statistics
B3: FY 2009 | C3: FY 2010 | D3: FY 2011 | E3: FY 2012 | F3: FY 2013 | G3: FY 2014 | H3: FY 2015 | I3: FY 2016 | J3: FY 2017 | K3: FY 2018
A4: Total Number of Leases in Effect | B4: 53431 | C4: 50544 | D4: 49174 | E4: 48699 | F4: 47427 | G4: 46183 | H4: 44213 | I4: 40143 | J4: 38556 | K4: ='Table 1 Number of Leases'!K54 -> 38147
A5: Total Number of Acres Leased | B5: 45364991 | C5: 41186158 | D5: 38463552 | E5: 37792212 | F5: 36092482 | G5: 34592450 | H5: 32193369 | I5: 27207018 | J5: 25742991 | K5: ='Table 2 Acreage in Effect'!K54 -> 25552475
A6: Total Number of New Leases Issued During the Year | B6: 2072 | C6: 1308 | D6: 2188 | E6: 1729 | F6: 1468 | G6: 1157 | H6: 852 | I6: 520 | J6: 902 | K6: ='Table 3 Number of New Leases '!K54 -> 1333
A7: Total Number of Acres Leased During the Year | B7: 1913602 | C7: 1353663 | D7: 2016176 | E7: 1752060 | F7: 1172808 | G7: 1197852 | H7: 810068 | I7: 577317 | J7: 1114218 | K7: ='Table 4 Acreage in New Leases '!K54 -> 1253369
A8: Total Number of Producing Leases on Federal Lands | B8: 22599 | C8: 22676 | D8: 22682 | E8: 23306 | F8: 23507 | G8: 23657 | H8: 23770 | I8: 23926 | J8: 23991 | K8: ='Table 5 Producing Leases'!K54 -> 24028
A9: Total Number of Producing Acres on Federal Lands | B9: 12842209 | C9: 12205416 | D9: 12316233 | E9: 12512974 | F9: 12617743 | G9: 12690806 | H9: 12760700 | I9: 12771830 | J9: 12790557 | K9: ='Table 6 Producing Acres'!K54 -> 12794553
A10: Total Number of APDs approved by Year on Federal Lands | B10: 4487 | C10: 4090 | D10: 4244 | E10: 4256 | F10: 3770 | G10: 3769 | H10: 3508 | I10: 2184 | J10: 2486 | K10: ='Table 7 Number of Approved APDs'!K54 -> 3388
A11: 1 Total Number Of Wells Started (Spud) During the Year on Federal Lands | B11: 3267 | C11: 3166 | D11: 3260 | E11: 3022 | F11: 2413 | G11: 2544 | H11: 1621 | I11: 847 | J11: 1428 | K11: ='Table 8 Wells Spud'!K54 -> 1919
A12: Total Number of Producible and Service Holes on Federal Lands | B12: 85330 | C12: 89637 | D12: 90452 | E12: 92583 | F12: 93598 | G12: 94778 | H12: 94484 | I12: 94096 | J12: 94434 | K12: ='Table 9 Producible Well Bores'!K54 -> 96199
A13: Total Number of Producible and Service Completions on Federal Lands | B13: 91237 | C13: 95979 | D13: 96606 | E13: 99015 | F13: 99975 | G13: 101145 | H13: 100665 | I13: 97513 | J13: 100433 | K13: ='Table 10 Producible Completions'!K54 -> 102219
A14: Notes:
A15: For all years, data is Federal-only; does not include Indian data.
A16: Totals for some states will be less than in expanded reports that include both Federal and Indian data.
A17: Created between 10/1 and 10/7, 2018. Refer to individual tabs for exact dates.
A18: Source of data is Public Land Statistics, which also includes data from previous years.

Sheet Table 1 Number of Leases
A1: As of 10/1/2018, revised on 10/3/2018
B2: Total Number of Leases in Effect
A3: Geographic State | B3: FY 2009 | C3: FY 2010 | D3: FY 2011 | E3: FY 2012 | F3: FY 2013 | G3: FY 2014 | H3: FY 2015 | I3: FY 2016 | J3: FY 2017 | K3: FY 2018
A4: Alabama | B4: 201 | C4: 188 | D4: 193 | E4: 163 | F4: 138 | G4: 147 | H4: 135 | I4: 115 | J4: 109 | K4: 83
A5: Alaska | B5: 352 | C5: 280 | D5: 204 | E5: 214 | F5: 222 | G5: 242 | H5: 242 | I5: 174 | J5: 229 | K5: 238
A6: Arizona | B6: 86 | C6: 85 | D6: 23 | E6: 22 | F6: 27 | G6: 27 | H6: 11 | I6: 6 | J6: 6 | K6: 4
A7: Arkansas | B7: 1486 | C7: 1234 | D7: 1158 | E7: 960 | F7: 742 | G7: 726 | H7: 714 | I7: 615 | J7: 583 | K7: 584
A8: California | B8: 756 | C8: 648 | D8: 630 | E8: 610 | F8: 600 | G8: 574 | H8: 545 | I8: 530 | J8: 524 | K8: 516
A9: Colorado | B9: 5910 | C9: 5627 | D9: 5343 | E9: 5160 | F9: 4963 | G9: 4712 | H9: 4333 | I9: 4034 | J9: 3859 | K9: 3703
A10: Connecticut | B10: 0 | C10: 0 | D10: 0 | E10: 0 | F10: 0 | G10: 0 | H10: 0 | I10: 0 | J10: 0 | K10: 0
A11: Delaware | B11: 0 | C11: 0 | D11: 0 | E11: 0 | F11: 0 | G11: 0 | H11: 0 | I11: 0 | J11: 0 | K11: 0
A12: Florida | B12: 2 | C12: 2 | D12: 2 | E12: 2 | F12: 0 | G12: 0 | H12: 0 | I12: 2 | J12: 0 | K12: 0
A13: Georgia | B13: 0 | C13: 0 | D13: 0 | E13: 0 | F13: 0 | G13: 0 | H13: 0 | I13: 0 | J13: 0 | K13: 0
A14: Hawaii | B14: 0 | C14: 0 | D14: 0 | E14: 0 | F14: 0 | G14: 0 | H14: 0 | I14: 0 | J14: 0 | K14: 0
A15: Idaho | B15: 13 | C15: 12 | D15: 5 | E15: 4 | F15: 4 | G15: 2 | H15: 7 | I15: 15 | J15: 14 | K15: 14
... A53: Wyoming | B53: 17854 | C53: 16798 | D53: 16622 | E53: 16489 | F53: 16209 | G53: 15535 | H53: 15059 | I53: 13598 | J53: 13095 | K53: 12780
A54: Total | B54: 53431 | C54: 50544 | D54: 49174 | E54: 48699 | F54: 47427 | G54: 46183 | H54: 44213 | I54: 40143 | J54: 38556 | K54: =SUM(K4:K53) -> 38147
A55: Note: For all years, data is Federal-only; does not include Indian leases.
A56: Note: Source of data is Public Land Statistics, which also includes data from previous years.

Sheet Table 2 Acreage in Effect
A1: As of 10/1/2018, revised on 10/3/2018
B2: Total Number of Acres Under Lease As of the Last Day of the Fiscal Year
A3: Geographic State | B3: FY 2009 | C3: FY 2010 | D3: FY 2011 | E3: FY 2012 | F3: FY 2013 | G3: FY 2014 | H3: FY 2015 | I3: FY 2016 | J3: FY 2017 | K3: FY 2018
A4: Alabama | B4: 137723 | C4: 119311 | D4: 110948 | E4: 86008 | F4: 75390 | G4: 80540 | H4: 78570 | I4: 70700 | J4: 63718 | K4: 40791
A5: Alaska | B5: 3113795 | C5: 2325946 | D5: 1437051 | E5: 1462407 | F5: 1598395 | G5: 1813246 | H5: 1813246 | I5: 1006960 | J5: 1484339 | K5: 1490733
A6: Arizona | B6: 358319 | C6: 357680 | D6: 32383 | E6: 27927 | F6: 39562 | G6: 39560 | H6: 19995.65 | I6: 12217 | J6: 12217 | K6: 8886.84
A7: Arkansas | B7: 1135809 | C7: 858575 | D7: 774381 | E7: 624622 | F7: 490363 | G7: 465407 | H7: 460904 | I7: 414649 | J7: 398443 | K7: 385651
A8: California | B8: 422750 | C8: 277827 | D8: 259976 | E8: 245118 | F8: 239071 | G8: 223206 | H8: 208056 | I8: 198820 | J8: 194689 | K8: 190099
A9: Colorado | B9: 4920123 | C9: 4632382 | D9: 4380275 | E9: 4198209 | F9: 3915506 | G9: 3667006 | H9: 3300752 | I9: 3001009 | J9: 2846286 | K9: 2692029
A10: Connecticut | B10: 0 | C10: 0 | D10: 0 | E10: 0 | F10: 0 | G10: 0 | H10: 0 | I10: 0 | J10: 0 | K10: 0
A11: Delaware | B11: 0 | C11: 0 | D11: 0 | E11: 0 | F11: 0 | G11: 0 | H11: 0 | I11: 0 | J11: 0 | K11: 0
A12: Florida | B12: 1720 | C12: 1720 | D12: 1720 | E12: 1720 | F12: 0 | G12: 0 | H12: 0 | I12: 1160 | J12: 0 | K12: 0
A13: Georgia | B13: 0 | C13: 0 | D13: 0 | E13: 0 | F13: 0 | G13: 0 | H13: 0 | I13: 0 | J13: 0 | K13: 0
A14: Hawaii | B14: 0 | C14: 0 | D14: 0 | E14: 0 | F14: 0 | G14: 0 | H14: 0 | I14: 0 | J14: 0 | K14: 0
A15: Idaho | B15: 22154 | C15: 22114 | D15: 9110 | E15: 7355 | F15: 7355 | G15: 4135 | H15: 10609 | I15: 20012 | J15: 18029 | K15: 18029
... A53: Wyoming | B53: 12732957 | C53: 11657090 | D53: 11616906 | E53: 11527320 | F53: 11232643 | G53: 10608506 | H53: 10184145 | I53: 8794158 | J53: 8349353 | K53: 8084177
A54: Total | B54: 45364991 | C54: 41186158 | D54: 38463552 | E54: 37792212 | F54: 36092482 | G54: 34592450 | H54: 32193369 | I54: 27207018 | J54: 25742991 | K54: =SUM(K4:K53) -> 25552475
A55: Note: For all years, data is Federal-only; does not include Indian leases.
A56: Note: Source of data is Public Land Statistics, which also includes data from previous years.

Sheet Table 3 Number of New Leases 
A1: As of 10/1/2018, revised on 10/3/2018
B2: Number of New Leases Issued During the Fiscal Year
A3: Geographic State | B3: FY 2009 | C3: FY 2010 | D3: FY 2011 | E3: FY 2012 | F3: FY 2013 | G3: FY 2014 | H3: FY 2015 | I3: FY 2016 | J3: FY 2017 | K3: FY 2018
A4: Alabama | B4: 22 | C4: 17 | D4: 35 | E4: 17 | F4: 0 | G4: 4 | H4: 2 | I4: 0 | J4: 0 | K4: 0
A5: Alaska | B5: 6 | C5: 0 | D5: 0 | E5: 19 | F5: 14 | G5: 22 | H5: 7 | I5: 6 | J5: 66 | K5: 7
A6: Arizona | B6: 0 | C6: 0 | D6: 0 | E6: 0 | F6: 6 | G6: 0 | H6: 1 | I6: 0 | J6: 0 | K6: 0
A7: Arkansas | B7: 42 | C7: 18 | D7: 32 | E7: 7 | F7: 0 | G7: 14 | H7: 0 | I7: 4 | J7: 5 | K7: 28
A8: California | B8: 26 | C8: 25 | D8: 25 | E8: 19 | F8: 14 | G8: 0 | H8: 0 | I8: 0 | J8: 0 | K8: 0
A9: Colorado | B9: 83 | C9: 148 | D9: 11 | E9: 89 | F9: 166 | G9: 31 | H9: 141 | I9: 128 | J9: 139 | K9: 105
A10: Connecticut | B10: 0 | C10: 0 | D10: 0 | E10: 0 | F10: 0 | G10: 0 | H10: 0 | I10: 0 | J10: 0 | K10: 0
A11: Delaware | B11: 0 | C11: 0 | D11: 0 | E11: 0 | F11: 0 | G11: 0 | H11: 0 | I11: 0 | J11: 0 | K11: 0
A12: Florida | B12: 0 | C12: 0 | D12: 0 | E12: 0 | F12: 0 | G12: 0 | H12: 0 | I12: 0 | J12: 0 | K12: 0
A13: Georgia | B13: 0 | C13: 0 | D13: 0 | E13: 0 | F13: 0 | G13: 0 | H13: 0 | I13: 0 | J13: 0 | K13: 0
A14: Hawaii | B14: 0 | C14: 0 | D14: 0 | E14: 0 | F14: 0 | G14: 0 | H14: 0 | I14: 0 | J14: 0 | K14: 0
A15: Idaho | B15: 0 | C15: 0 | D15: 0 | E15: 0 | F15: 0 | G15: 0 | H15: 5 | I15: 8 | J15: 0 | K15: 0
... A53: Wyoming | B53: 388 | C53: 309 | D53: 1038 | E53: 477 | F53: 437 | G53: 335 | H53: 322 | I53: 214 | J53: 373 | K53: 481
A54: Total | B54: 2072 | C54: 1308 | D54: 2188 | E54: 1729 | F54: 1468 | G54: 1157 | H54: 852 | I54: 520 | J54: 902 | K54: =SUM(K4:K53) -> 1333
A55: Note: For all years, data is Federal-only; does not include Indian leases.
A56: Note: Source of data is Public Land Statistics, which also includes data from previous years.

Sheet Table 4 Acreage in New Leases 
A1: As of 10/1/2018, revised on 10/3/2018
B2: Number of Acres Leased During the Fiscal Year
A3: Geographic State | B3: FY 2009 | C3: FY 2010 | D3: FY 2011 | E3: FY 2012 | F3: FY 2013 | G3: FY 2014 | H3: FY 2015 | I3: FY 2016 | J3: FY 2017 | K3: FY 2018
A4: Alabama | B4: 6599 | C4: 2096 | D4: 20459 | E4: 18260 | F4: 0 | G4: 471 | H4: 80 | I4: 0 | J4: 0 | K4: 0
A5: Alaska | B5: 26441 | C5: 0 | D5: 0 | E5: 131727 | F5: 160088 | G5: 245293 | H5: 66650 | I5: 28589 | J5: 446259 | K5: 79998
A6: Arizona | B6: 0 | C6: 0 | D6: 0 | E6: 0 | F6: 12219 | G6: 0 | H6: 0 | I6: 0 | J6: 0 | K6: 0
A7: Arkansas | B7: 9937 | C7: 1666 | D7: 6596 | E7: 1244 | F7: 0 | G7: 1648 | H7: 80 | I7: 220 | J7: 380 | K7: 2058
A8: California | B8: 13996 | C8: 21201 | D8: 10299 | E8: 7806 | F8: 6533 | G8: 0 | H8: 0 | I8: 0 | J8: 0 | K8: 0
A9: Colorado | B9: 46034 | C9: 95411 | D9: 5527 | E9: 75169 | F9: 90890 | G9: 19251 | H9: 67562 | I9: 96622 | J9: 114970 | K9: 85835
A10: Connecticut | B10: 0 | C10: 0 | D10: 0 | E10: 0 | F10: 0 | G10: 0 | H10: 0 | I10: 0 | J10: 0 | K10: 0
A11: Delaware | B11: 0 | C11: 0 | D11: 0 | E11: 0 | F11: 0 | G11: 0 | H11: 0 | I11: 0 | J11: 0 | K11: 0
A12: Florida | B12: 0 | C12: 0 | D12: 0 | E12: 0 | F12: 0 | G12: 0 | H12: 0 | I12: 0 | J12: 0 | K12: 0
A13: Georgia | B13: 0 | C13: 0 | D13: 0 | E13: 0 | F13: 0 | G13: 0 | H13: 0 | I13: 0 | J13: 0 | K13: 0
A14: Hawaii | B14: 0 | C14: 0 | D14: 0 | E14: 0 | F14: 0 | G14: 0 | H14: 0 | I14: 0 | J14: 0 | K14: 0
A15: Idaho | B15: 0 | C15: 0 | D15: 0 | E15: 0 | F15: 0 | G15: 0 | H15: 6474 | I15: 9403 | J15: 0 | K15: 0
... A53: Wyoming | B53: 110344 | C53: 294344 | D53: 1034741 | E53: 491232 | F53: 351267 | G53: 296021 | H53: 329982 | I53: 244861 | J53: 263219 | K53: 521911
A54: Total | B54: 1913602 | C54: 1353663 | D54: 2016176 | E54: 1752060 | F54: 1172808 | G54: 1197852 | H54: 810068 | I54: 577317 | J54: 1114218 | K54: =SUM(K4:K53) -> 1253369
A55: Note: For all years, data is Federal-only; does not include Indian leases.
A56: Note: Source of data is Public Land Statistics, which also includes data from previous years.

Sheet Table 5 Producing Leases
A1: As of 10/7/2018
B2: Number of Producing Leases on Federal Lands
A3: Geographic State | B3: FY 2009 | C3: FY 2010 | D3: FY 2011 | E3: FY 2012 | F3: FY 2013 | G3: FY 2014 | H3: FY 2015 | I3: FY 2016 | J3: FY 2017 | K3: FY 2018
A4: Alabama | B4: 23 | C4: 23 | D4: 25 | E4: 26 | F4: 23 | G4: 24 | H4: 24 | I4: 24 | J4: 24 | K4: 23
A5: Alaska | B5: 28 | C5: 17 | D5: 31 | E5: 30 | F5: 29 | G5: 29 | H5: 28 | I5: 28 | J5: 28 | K5: 31
A6: Arizona | B6: 0 | C6: 0 | D6: 0 | E6: 0 | F6: 0 | G6: 0 | H6: 0 | I6: 0 | J6: 0 | K6: 0
A7: Arkansas | B7: 210 | C7: 225 | D7: 250 | E7: 250 | F7: 248 | G7: 246 | H7: 245 | I7: 247 | J7: 253 | K7: 253
A8: California | B8: 317 | C8: 321 | D8: 322 | E8: 324 | F8: 325 | G8: 323 | H8: 320 | I8: 324 | J8: 320 | K8: 313
A9: Colorado | B9: 2266 | C9: 2159 | D9: 2174 | E9: 2169 | F9: 2180 | G9: 2179 | H9: 2192 | I9: 2238 | J9: 2221 | K9: 2204
A10: Connecticut | B10: 0 | C10: 0 | D10: 0 | E10: 0 | F10: 0 | G10: 0 | H10: 0 | I10: 0 | J10: 0 | K10: 0
A11: Delaware | B11: 0 | C11: 0 | D11: 0 | E11: 0 | F11: 0 | G11: 0 | H11: 0 | I11: 0 | J11: 0 | K11: 0
A12: Florida | B12: 0 | C12: 0 | D12: 0 | E12: 0 | F12: 0 | G12: 0 | H12: 0 | I12: 0 | J12: 0 | K12: 0
A13: Georgia | B13: 0 | C13: 0 | D13: 0 | E13: 0 | F13: 0 | G13: 0 | H13: 0 | I13: 0 | J13: 0 | K13: 0
A14: Hawaii | B14: 0 | C14: 0 | D14: 0 | E14: 0 | F14: 0 | G14: 0 | H14: 0 | I14: 0 | J14: 0 | K14: 0
A15: Idaho | B15: 0 | C15: 0 | D15: 0 | E15: 0 | F15: 0 | G15: 0 | H15: 0 | I15: 2 | J15: 2 | K15: 2
... A53: Wyoming | B53: 7211 | C53: 7299 | D53: 7042 | E53: 7503 | F53: 7546 | G53: 7551 | H53: 7501 | I53: 7498 | J53: 7502 | K53: 7550
A54: TOTAL | B54: 22599 | C54: 22676 | D54: 22682 | E54: 23306 | F54: 23507 | G54: 23657 | H54: 23770 | I54: 23926 | J54: 23991 | K54: =SUM(K4:K53) -> 24028
A55: Note: For all years, data is Federal-only; does not include Indian leases.
A56: Note: Source of data is Public Land Statistics, which also includes data from previous years.

Sheet Table 6 Producing Acres
A1: As of 10/7/2018
B2: Number of Producing Acres on Federal Lands
A3: Geographic State | B3: FY 2009 | C3: FY 2010 | D3: FY 2011 | E3: FY 2012 | F3: FY 2013 | G3: FY 2014 | H3: FY 2015 | I3: FY 2016 | J3: FY 2017 | K3: FY 2018
A4: Alabama | B4: 7983 | C4: 8379.058 | D4: 8470 | E4: 8550 | F4: 7667 | G4: 7707 | H4: 7842 | I4: 7842 | J4: 7842 | K4: 7200.903
A5: Alaska | B5: 23450 | C5: 31347.33 | D5: 36046 | E5: 23115 | F5: 23115 | G5: 18555 | H5: 16882 | I5: 16882 | J5: 16882 | K5: 18847
A6: Arizona | B6: 0 | C6: 0 | D6: 0 | E6: 0 | F6: 0 | G6: 0 | H6: 0 | I6: 0 | J6: 0 | K6: 0
A7: Arkansas | B7: 120997 | C7: 127122.13 | D7: 133957 | E7: 125934 | F7: 124819 | G7: 121558 | H7: 120927 | I7: 121326 | J7: 122721 | K7: 122480.87
A8: California | B8: 78826 | C8: 81034.855 | D8: 81315 | E8: 82461 | F8: 82736 | G8: 82697 | H8: 80921 | I8: 83434 | J8: 82075 | K8: 78603.745
A9: Colorado | B9: 1522230 | C9: 1460609.3 | D9: 1467839 | E9: 1473232 | F9: 1474922 | G9: 1478105 | H9: 1483943 | I9: 1526229 | J9: 1511663 | K9: 1502100.3
A10: Connecticut | B10: 0 | C10: 0 | D10: 0 | E10: 0 | F10: 0 | G10: 0 | H10: 0 | I10: 0 | J10: 0 | K10: 0
A11: Delaware | B11: 0 | C11: 0 | D11: 0 | E11: 0 | F11: 0 | G11: 0 | H11: 0 | I11: 0 | J11: 0 | K11: 0
A12: Florida | B12: 0 | C12: 0 | D12: 0 | E12: 0 | F12: 0 | G12: 0 | H12: 0 | I12: 0 | J12: 0 | K12: 0
A13: Georgia | B13: 0 | C13: 0 | D13: 0 | E13: 0 | F13: 0 | G13: 0 | H13: 0 | I13: 0 | J13: 0 | K13: 0
A14: Hawaii | B14: 0 | C14: 0 | D14: 0 | E14: 0 | F14: 0 | G14: 0 | H14: 0 | I14: 0 | J14: 0 | K14: 0
A15: Idaho | B15: 0 | C15: 0 | D15: 0 | E15: 0 | F15: 0 | G15: 0 | H15: 0 | I15: 2333 | J15: 2333 | K15: 2333
... A53: Wyoming | B53: 3794355 | C53: 3829709 | D53: 3823996 | E53: 3973732 | F53: 4011606 | G53: 4033994 | H53: 4023729 | I53: 4020073 | J53: 4043075 | K53: 4076711.3
A54: TOTAL | B54: 12842209 | C54: 12205416 | D54: 12316233 | E54: 12512974 | F54: 12617743 | G54: 12690806 | H54: 12760700 | I54: 12771830 | J54: 12790557 | K54: =SUM(K4:K53) -> 12794553
A55: Note: For all years, data is Federal-only; does not include Indian leases.
A56: Note: Source of data is Public Land Statistics, which also includes data from previous years.

Sheet Table 7 Number of Approved APDs
A1: As of 10/7/2018
B2: Number of Drilling Permits Approved by Fiscal Year on Federal Lands
A3: Geographic State | B3: FY 2009 | C3: FY 2010 | D3: FY 2011 | E3: FY 2012 | F3: FY 2013 | G3: FY 2014 | H3: FY 2015 | I3: FY 2016 | J3: FY 2017 | K3: FY 2018
A4: Alabama | B4: 1 | C4: 0 | D4: 0 | E4: 2 | F4: 0 | G4: 0 | H4: 3 | I4: 0 | J4: 0 | K4: 0
A5: Alaska | B5: 8 | C5: 0 | D5: 0 | E5: 2 | F5: 10 | G5: 8 | H5: 3 | I5: 3 | J5: 4 | K5: 10
A6: Arizona | B6: 0 | C6: 0 | D6: 0 | E6: 0 | F6: 0 | G6: 0 | H6: 0 | I6: 0 | J6: 0 | K6: 0
A7: Arkansas | B7: 28 | C7: 18 | D7: 12 | E7: 12 | F7: 18 | G7: 25 | H7: 8 | I7: 3 | J7: 0 | K7: 9
A8: California | B8: 169 | C8: 281 | D8: 369 | E8: 355 | F8: 181 | G8: 181 | H8: 168 | I8: 28 | J8: 64 | K8: 117
A9: Colorado | B9: 473 | C9: 593 | D9: 509 | E9: 422 | F9: 314 | G9: 316 | H9: 373 | I9: 218 | J9: 319 | K9: 402
A10: Connecticut | B10: 0 | C10: 0 | D10: 0 | E10: 0 | F10: 0 | G10: 0 | H10: 0 | I10: 0 | J10: 0 | K10: 0
A11: Delaware | B11: 0 | C11: 0 | D11: 0 | E11: 0 | F11: 0 | G11: 0 | H11: 0 | I11: 0 | J11: 0 | K11: 0
A12: Florida | B12: 0 | C12: 0 | D12: 0 | E12: 0 | F12: 0 | G12: 0 | H12: 0 | I12: 0 | J12: 0 | K12: 0
A13: Georgia | B13: 0 | C13: 0 | D13: 0 | E13: 0 | F13: 0 | G13: 0 | H13: 0 | I13: 0 | J13: 0 | K13: 0
A14: Hawaii | B14: 0 | C14: 0 | D14: 0 | E14: 0 | F14: 0 | G14: 0 | H14: 0 | I14: 0 | J14: 0 | K14: 0
A15: Idaho | B15: 0 | C15: 0 | D15: 0 | E15: 0 | F15: 0 | G15: 0 | H15: 0 | I15: 0 | J15: 2 | K15: 0
... A53: Wyoming | B53: 1975 | C53: 1538 | D53: 1660 | E53: 1229 | F53: 1001 | G53: 997 | H53: 964 | I53: 626 | J53: 1102 | K53: 1120
A54: TOTAL | B54: 4487 | C54: 4090 | D54: 4244 | E54: 4256 | F54: 3770 | G54: 3769 | H54: 3508 | I54: 2184 | J54: 2486 | K54: =SUM(K4:K53) -> 3388
A55: (1) Data from Public Lands Statistics in which APDs were portrayed by BLM administrative office (e.g., the Eastern States Office).
A56: Note: For all years, data is Federal-only; does not include Indian data. As a result, totals for some states will be less than in expanded reports that include both Federal and Indian data.
A57: Note: Additional differences may result between these numbers and state-level Federal-only totals in expanded reports due to the timing of the data queries.
A58: Note: Source of data is Public Land Statistics, which also includes data from previous years.

Sheet Table 8 Wells Spud
A1: As of 10/7/2018
B2: Number of Well Bores Started (Spud) During the Fiscal Year on Federal Lands
A3: Geographic State | B3: FY 2009 | C3: FY 2010 | D3: FY 2011 | E3: FY 2012 | F3: FY 2013 | G3: FY 2014 | H3: FY 2015 | I3: FY 2016 | J3: FY 2017 | K3: FY 2018
A4: Alabama | B4: 1 | C4: 0 | D4: 0 | E4: 1 | F4: 0 | G4: 0 | H4: 2 | I4: 0 | J4: 0 | K4: 0
A5: Alaska | B5: 7 | C5: 0 | D5: 0 | E5: 2 | F5: 6 | G5: 6 | H5: 3 | I5: 3 | J5: 4 | K5: 10
A6: Arizona | B6: 0 | C6: 0 | D6: 0 | E6: 0 | F6: 0 | G6: 0 | H6: 0 | I6: 0 | J6: 0 | K6: 0
A7: Arkansas | B7: 14 | C7: 13 | D7: 7 | E7: 3 | F7: 13 | G7: 14 | H7: 6 | I7: 0 | J7: 3 | K7: 0
A8: California | B8: 162 | C8: 210 | D8: 414 | E8: 284 | F8: 205 | G8: 210 | H8: 76 | I8: 30 | J8: 38 | K8: 101
A9: Colorado | B9: 340 | C9: 411 | D9: 453 | E9: 318 | F9: 215 | G9: 229 | H9: 145 | I9: 111 | J9: 148 | K9: 225
A10: Connecticut | B10: 0 | C10: 0 | D10: 0 | E10: 0 | F10: 0 | G10: 0 | H10: 0 | I10: 0 | J10: 0 | K10: 0
A11: Delaware | B11: 0 | C11: 0 | D11: 0 | E11: 0 | F11: 0 | G11: 0 | H11: 0 | I11: 0 | J11: 0 | K11: 0
A12: Florida | B12: 0 | C12: 0 | D12: 0 | E12: 0 | F12: 0 | G12: 0 | H12: 0 | I12: 0 | J12: 0 | K12: 0
A13: Georgia | B13: 0 | C13: 0 | D13: 0 | E13: 0 | F13: 0 | G13: 0 | H13: 0 | I13: 0 | J13: 0 | K13: 0
A14: Hawaii | B14: 0 | C14: 0 | D14: 0 | E14: 0 | F14: 0 | G14: 0 | H14: 0 | I14: 0 | J14: 0 | K14: 0
A15: Idaho | B15: 0 | C15: 0 | D15: 0 | E15: 0 | F15: 0 | G15: 0 | H15: 0 | I15: 0 | J15: 0 | K15: 0
... A53: Wyoming | B53: 1446 | C53: 1290 | D53: 1049 | E53: 776 | F53: 620 | G53: 665 | H53: 435 | I53: 256 | J53: 541 | K53: 612
A54: TOTAL | B54: 3267 | C54: 3166 | D54: 3260 | E54: 3022 | F54: 2413 | G54: 2544 | H54: 1621 | I54: =SUM(I4:I53) -> 847 | J54: 1428 | K54: =SUM(K4:K53) -> 1919
A55: Data from AFMSS.
A56: Note: For all years, data is Federal-only; does not include Indian leases. As a result, totals for some states will be less than in expanded reports that include both Federal and Indian data.
A57: Note: Additional differences may result between these numbers and state-level Federal-only totals in expanded reports due to the timing of the data queries.
A58: Note: Source of data is Public Land Statistics, which also includes data from previous years.

Sheet Table 9 Producible Well Bores
A1: As of 10/7/2018
B2: Number of Producible and Service Well Bores on Federal Lands
A3: Geographic State | B3: FY 2009 | C3: FY 2010 | D3: FY 2011 | E3: FY 2012 | F3: FY 2013 | G3: FY 2014 | H3: FY 2015 | I3: FY 2016 | J3: FY 2017 | K3: FY 2018
A4: Alabama | B4: 29 | C4: 30 | D4: 30 | E4: 32 | F4: 32 | G4: 30 | H4: 30 | I4: 29 | J4: 29 | K4: 29
A5: Alaska | B5: 176 | C5: 173 | D5: 170 | E5: 114 | F5: 133 | G5: 107 | H5: 100 | I5: 76 | J5: 76 | K5: 107
A6: Arizona | B6: 2 | C6: 2 | D6: 2 | E6: 2 | F6: 2 | G6: 2 | H6: 1 | I6: 1 | J6: 0 | K6: 1
A7: Arkansas | B7: 162 | C7: 191 | D7: 192 | E7: 191 | F7: 204 | G7: 209 | H7: 212 | I7: 210 | J7: 210 | K7: 206
A8: California | B8: 7265 | C8: 7590 | D8: 7827 | E8: 7966 | F8: 8064 | G8: 8145 | H8: 8047 | I8: 6854 | J8: 7910 | K8: 7938
A9: Colorado | B9: 5444 | C9: 6103 | D9: 6396 | E9: 6622 | F9: 6825 | G9: 6878 | H9: 6968 | I9: 6752 | J9: 7108 | K9: 7272
A10: Connecticut | B10: 0 | C10: 0 | D10: 0 | E10: 0 | F10: 0 | G10: 0 | H10: 0 | I10: 0 | J10: 0 | K10: 0
A11: Delaware | B11: 0 | C11: 0 | D11: 0 | E11: 0 | F11: 0 | G11: 0 | H11: 0 | I11: 0 | J11: 0 | K11: 0
A12: Florida | B12: 0 | C12: 0 | D12: 0 | E12: 0 | F12: 0 | G12: 0 | H12: 0 | I12: 0 | J12: 0 | K12: 0
A13: Georgia | B13: 0 | C13: 0 | D13: 0 | E13: 0 | F13: 0 | G13: 0 | H13: 0 | I13: 0 | J13: 0 | K13: 0
A14: Hawaii | B14: 0 | C14: 0 | D14: 0 | E14: 0 | F14: 0 | G14: 0 | H14: 0 | I14: 0 | J14: 0 | K14: 0
A15: Idaho | B15: 0 | C15: 0 | D15: 0 | E15: 0 | F15: 0 | G15: 0 | H15: 0 | I15: 0 | J15: 1 | K15: 0
... A53: Wyoming | B53: 29514 | C53: 31339 | D53: 31691 | E53: 31790 | F53: 31641 | G53: 31647 | H53: 31400 | I53: 32294 | J53: 30976 | K53: 30730
A54: TOTAL | B54: 85330 | C54: 89637 | D54: 90452 | E54: 92583 | F54: 93598 | G54: 94778 | H54: 94484 | I54: 94096 | J54: 94434 | K54: =SUM(K4:K53) -> 96199
A55: Data from AFMSS.
A56: Note: For all years, data is Federal-only; does not include Indian leases. As a result, totals for some states will be less than in expanded reports that include both Federal and Indian data.
A57: Note: Source of data is Public Land Statistics, which also includes data from previous years.

Sheet Table 10 Producible Completions
A1: As of 10/7/2018
B2: Number of Producible and Service Completions on Federal Lands
A3: Geographic State | B3: FY 2009 | C3: FY 2010 | D3: FY 2011 | E3: FY 2012 | F3: FY 2013 | G3: FY 2014 | H3: FY 2015 | I3: FY 2016 | J3: FY 2017 | K3: FY 2018
A4: Alabama | B4: 29 | C4: 30 | D4: 30 | E4: 32 | F4: 32 | G4: 30 | H4: 30 | I4: 29 | J4: 29 | K4: 29
A5: Alaska | B5: 215 | C5: 212 | D5: 205 | E5: 142 | F5: 158 | G5: 131 | H5: 123 | I5: 97 | J5: 97 | K5: 116
A6: Arizona | B6: 2 | C6: 2 | D6: 2 | E6: 2 | F6: 2 | G6: 2 | H6: 1 | I6: 1 | J6: 0 | K6: 1
A7: Arkansas | B7: 177 | C7: 204 | D7: 205 | E7: 200 | F7: 214 | G7: 223 | H7: 225 | I7: 225 | J7: 223 | K7: 219
A8: California | B8: 7281 | C8: 7606 | D8: 7845 | E8: 7983 | F8: 8081 | G8: 8164 | H8: 8067 | I8: 6872 | J8: 7927 | K8: 7955
A9: Colorado | B9: 5543 | C9: 6203 | D9: 6482 | E9: 6701 | F9: 6904 | G9: 6958 | H9: 7047 | I9: 6815 | J9: 7182 | K9: 7342
A10: Connecticut | B10: 0 | C10: 0 | D10: 0 | E10: 0 | F10: 0 | G10: 0 | H10: 0 | I10: 0 | J10: 0 | K10: 0
A11: Delaware | B11: 0 | C11: 0 | D11: 0 | E11: 0 | F11: 0 | G11: 0 | H11: 0 | I11: 0 | J11: 0 | K11: 0
A12: Florida | B12: 0 | C12: 0 | D12: 0 | E12: 0 | F12: 0 | G12: 0 | H12: 0 | I12: 0 | J12: 0 | K12: 0
A13: Georgia | B13: 0 | C13: 0 | D13: 0 | E13: 0 | F13: 0 | G13: 0 | H13: 0 | I13: 0 | J13: 0 | K13: 0
A14: Hawaii | B14: 0 | C14: 0 | D14: 0 | E14: 0 | F14: 0 | G14: 0 | H14: 0 | I14: 0 | J14: 0 | K14: 0
A15: Idaho | B15: 0 | C15: 0 | D15: 0 | E15: 0 | F15: 0 | G15: 0 | H15: 0 | I15: 0 | J15: 1 | K15: 0
... A53: Wyoming | B53: 30542 | C53: 32355 | D53: 32711 | E53: 32797 | F53: 32580 | G53: 32603 | H53: 32241 | I53: 30527 | J53: 31796 | K53: 31543
A54: TOTAL | B54: 91237 | C54: 95979 | D54: 96606 | E54: 99015 | F54: 99975 | G54: 101145 | H54: 100665 | I54: 97513 | J54: 100433 | K54: =SUM(K4:K53) -> 102219
A55: Data from AFMSS.
A56: Note: For all years, data is Federal-only; does not include Indian leases. As a result, totals for some states will be less than in expanded reports that include both Federal and Indian data.
A57: Note: Source of data is Public Land Statistics, which also includes data from previous years.
